BEGIN:VCALENDAR
VERSION:2.0
PRODID:spatie/icalendar-generator
DESCRIPTION:Events from New York State Chimney Sweep Guild
X-WR-CALDESC:Events from New York State Chimney Sweep Guild
REFRESH-INTERVAL;VALUE=DURATION:PT1440M
X-PUBLISHED-TTL:PT1440M
BEGIN:VTIMEZONE
TZID:America/New_York
BEGIN:STANDARD
DTSTART:20231105T020000Z
TZOFFSETFROM:-0400
TZOFFSETTO:-0500
END:STANDARD
BEGIN:DAYLIGHT
DTSTART:20240310T020000Z
TZOFFSETFROM:-0500
TZOFFSETTO:-0400
END:DAYLIGHT
END:VTIMEZONE
BEGIN:VTIMEZONE
TZID:UTC
BEGIN:STANDARD
DTSTART:20250725T103819Z
TZOFFSETFROM:+0000
TZOFFSETTO:+0000
END:STANDARD
END:VTIMEZONE
BEGIN:VEVENT
UID:8-8
DTSTAMP:20260421T103819Z
SUMMARY:National Chimney Sweep Guild Convention
LOCATION:
ORGANIZER;CN=admin:MAILTO:webmaster@seqlogic.com
DTSTART;TZID=America/New_York:20240318T000000
DTEND;TZID=America/New_York:20240323T010000
X-ALT-DESC;FMTTYPE=TEXT/HTML:Orlando\, Florida
CATEGORIES:General
URL;VALUE=URI:https://nystatechimneysweepguild.org/mc-events/national-chimn
 ey-sweep-guild-convention/
METHOD:PUBLISH
END:VEVENT
END:VCALENDAR