BEGIN:VCALENDAR
VERSION:2.0
PRODID:spatie/icalendar-generator
DESCRIPTION:Events from New York State Chimney Sweep Guild
X-WR-CALDESC:Events from New York State Chimney Sweep Guild
REFRESH-INTERVAL;VALUE=DURATION:PT1440M
X-PUBLISHED-TTL:PT1440M
BEGIN:VTIMEZONE
TZID:America/New_York
BEGIN:STANDARD
DTSTART:20231105T020000Z
TZOFFSETFROM:-0400
TZOFFSETTO:-0500
END:STANDARD
BEGIN:DAYLIGHT
DTSTART:20240310T020000Z
TZOFFSETFROM:-0500
TZOFFSETTO:-0400
END:DAYLIGHT
BEGIN:STANDARD
DTSTART:20241103T020000Z
TZOFFSETFROM:-0400
TZOFFSETTO:-0500
END:STANDARD
END:VTIMEZONE
BEGIN:VTIMEZONE
TZID:UTC
BEGIN:STANDARD
DTSTART:20250726T172604Z
TZOFFSETFROM:+0000
TZOFFSETTO:+0000
END:STANDARD
END:VTIMEZONE
BEGIN:VEVENT
UID:12-10
DTSTAMP:20260422T172604Z
SUMMARY:The Shawn Simboli Memorial Golf Tournament
LOCATION:Pioneer Hills Golf Course 3230 Galway Road  Ballston Spa NY 12020
ORGANIZER;CN=admin:MAILTO:webmaster@seqlogic.com
DTSTART;TZID=America/New_York:20240725T090000
DTEND;TZID=America/New_York:20240725T100000
X-ALT-DESC;FMTTYPE=TEXT/HTML:THURSDAY JULY 25\, 2024 Pioneer Hills Golf Cou
 rse 3230 Galway Road\, Ballston Spa\, NY 12020 9:00 AM Shot Gun Start at t
 he Course Golfers responsible for the cost ($ TBA) Includes car and greens
  fees. Lunch on your own. Join us for dinner after at Chris &amp;amp\; Ingrid
 ’s Hope to see everyone there! Contact Tom&amp;hellip\;
CATEGORIES:General
URL;VALUE=URI:https://nystatechimneysweepguild.org/mc-events/the-shawn-simb
 oli-memorial-golf-tournament/
METHOD:PUBLISH
END:VEVENT
END:VCALENDAR